BEGIN:VCALENDAR
VERSION:2.0
PRODID:-//Kingston Congregational Church - ECPv6.15.17.1//NONSGML v1.0//EN
CALSCALE:GREGORIAN
METHOD:PUBLISH
X-ORIGINAL-URL:https://kingstonucc.org
X-WR-CALDESC:Events for Kingston Congregational Church
REFRESH-INTERVAL;VALUE=DURATION:PT1H
X-Robots-Tag:noindex
X-PUBLISHED-TTL:PT1H
BEGIN:VTIMEZONE
TZID:America/New_York
BEGIN:DAYLIGHT
TZOFFSETFROM:-0500
TZOFFSETTO:-0400
TZNAME:EDT
DTSTART:20260308T070000
END:DAYLIGHT
BEGIN:STANDARD
TZOFFSETFROM:-0400
TZOFFSETTO:-0500
TZNAME:EST
DTSTART:20261101T060000
END:STANDARD
BEGIN:DAYLIGHT
TZOFFSETFROM:-0500
TZOFFSETTO:-0400
TZNAME:EDT
DTSTART:20270314T070000
END:DAYLIGHT
BEGIN:STANDARD
TZOFFSETFROM:-0400
TZOFFSETTO:-0500
TZNAME:EST
DTSTART:20271107T060000
END:STANDARD
BEGIN:DAYLIGHT
TZOFFSETFROM:-0500
TZOFFSETTO:-0400
TZNAME:EDT
DTSTART:20280312T070000
END:DAYLIGHT
BEGIN:STANDARD
TZOFFSETFROM:-0400
TZOFFSETTO:-0500
TZNAME:EST
DTSTART:20281105T060000
END:STANDARD
END:VTIMEZONE
BEGIN:VEVENT
DTSTART;TZID=America/New_York:20270926T180000
DTEND;TZID=America/New_York:20270926T190000
DTSTAMP:20260423T051257
CREATED:20260419T010128Z
LAST-MODIFIED:20260423T075640Z
UID:10001661-1821981600-1821985200@kingstonucc.org
SUMMARY:Community Dinner (Hall)
DESCRIPTION:
URL:https://kingstonucc.org/event/community-dinner-hall-35/
END:VEVENT
BEGIN:VEVENT
DTSTART;TZID=America/New_York:20270928T160000
DTEND;TZID=America/New_York:20270928T170000
DTSTAMP:20260423T051257
CREATED:20260419T010129Z
LAST-MODIFIED:20260423T075640Z
UID:10001663-1822147200-1822150800@kingstonucc.org
SUMMARY:AA (Hall)
DESCRIPTION:
URL:https://kingstonucc.org/event/aa-hall-301/
LOCATION:2610 Kingstown Road\, Kingston\, RI\, United States
GEO:41.482901;-71.524317
END:VEVENT
BEGIN:VEVENT
DTSTART;TZID=America/New_York:20270929T120000
DTEND;TZID=America/New_York:20270929T130000
DTSTAMP:20260423T051257
CREATED:20260419T153136Z
LAST-MODIFIED:20260423T075640Z
UID:10001664-1822219200-1822222800@kingstonucc.org
SUMMARY:Alanon (FPR)
DESCRIPTION:
URL:https://kingstonucc.org/event/alanon-fpr-151/
LOCATION:2610 Kingstown Rd\, Kingston\, RI\, United States
GEO:41.482901;-71.524317
END:VEVENT
BEGIN:VEVENT
DTSTART;TZID=America/New_York:20271003T093000
DTEND;TZID=America/New_York:20271003T103000
DTSTAMP:20260423T051257
CREATED:20260422T175123Z
LAST-MODIFIED:20260423T075640Z
UID:10001667-1822555800-1822559400@kingstonucc.org
SUMMARY:Worship (Sanctuary/YouTube)
DESCRIPTION:
URL:https://kingstonucc.org/event/worship-sanctuary-youtube-151/
END:VEVENT
BEGIN:VEVENT
DTSTART;TZID=America/New_York:20271005T160000
DTEND;TZID=America/New_York:20271005T170000
DTSTAMP:20260423T051257
CREATED:20260422T203623Z
LAST-MODIFIED:20260423T075640Z
UID:10001668-1822752000-1822755600@kingstonucc.org
SUMMARY:AA (Hall)
DESCRIPTION:
URL:https://kingstonucc.org/event/aa-hall-303/
LOCATION:2610 Kingstown Road\, Kingston\, RI\, United States
GEO:41.482901;-71.524317
END:VEVENT
END:VCALENDAR